BEGIN:VCALENDAR
VERSION:2.0
PRODID:-//Tukios.com/
BEGIN:VEVENT
UID:af25a4cc-c935-4177-a5ee-a6d7ab50f1aa@www.billingsleyfuneralhome.com
DTSTAMP:20260423T045937Z
DTSTART:20260620T170000Z
DTEND:20260620T200000Z
SUMMARY:Celebration of Life
DESCRIPTION:
URL:https://www.billingsleyfuneralhome.com/obituaries/evelyn-stewart
LOCATION: 430 Ravenscliffe Road  Huntsville ON P1H 1L7
GEO:45.338655;-79.2412871
END:VEVENT
END:VCALENDAR